BEGIN:VCALENDAR
VERSION:2.0
PRODID:-//UN2023 Gamechanger challenge - ECPv6.0.5//NONSGML v1.0//EN
CALSCALE:GREGORIAN
METHOD:PUBLISH
X-WR-CALNAME:UN2023 Gamechanger challenge
X-ORIGINAL-URL:https://wavechallenge.rodeboei.eu
X-WR-CALDESC:Events for UN2023 Gamechanger challenge
REFRESH-INTERVAL;VALUE=DURATION:PT1H
X-Robots-Tag:noindex
X-PUBLISHED-TTL:PT1H
BEGIN:VTIMEZONE
TZID:Europe/Amsterdam
BEGIN:DAYLIGHT
TZOFFSETFROM:+0100
TZOFFSETTO:+0200
TZNAME:CEST
DTSTART:20220327T010000
END:DAYLIGHT
BEGIN:STANDARD
TZOFFSETFROM:+0200
TZOFFSETTO:+0100
TZNAME:CET
DTSTART:20221030T010000
END:STANDARD
BEGIN:DAYLIGHT
TZOFFSETFROM:+0100
TZOFFSETTO:+0200
TZNAME:CEST
DTSTART:20230326T010000
END:DAYLIGHT
BEGIN:STANDARD
TZOFFSETFROM:+0200
TZOFFSETTO:+0100
TZNAME:CET
DTSTART:20231029T010000
END:STANDARD
TZID:Africa/Windhoek
BEGIN:STANDARD
TZOFFSETFROM:+0200
TZOFFSETTO:+0200
TZNAME:CAT
DTSTART:20220101T000000
END:STANDARD
END:VTIMEZONE
BEGIN:VEVENT
DTSTART;VALUE=DATE:20230322
DTEND;VALUE=DATE:20230323
DTSTAMP:20260424T161555
CREATED:20221209T131938Z
LAST-MODIFIED:20221209T131938Z
UID:5210-1679443200-1679529599@wavechallenge.rodeboei.eu
SUMMARY:Finals New York
DESCRIPTION:
URL:https://wavechallenge.rodeboei.eu/event/finals-new-york/
CATEGORIES:Deadline
END:VEVENT
BEGIN:VEVENT
DTSTART;TZID=Europe/Amsterdam:20230222T150000
DTEND;TZID=Europe/Amsterdam:20230222T150000
DTSTAMP:20260424T161555
CREATED:20221215T112155Z
LAST-MODIFIED:20221215T153038Z
UID:5355-1677078000-1677078000@wavechallenge.rodeboei.eu
SUMMARY:Masterclass Kim Vercruysse (Join For Water)
DESCRIPTION:Dr Kim Vercruysse is advisor at Join For Water\, a Belgian NGO working on the protection of freshwater resources. Previously\, she was a research fellow at Cranfield University (UK) and University of Leeds (UK)\, where she worked on projects focussing on human-environment interactions in the land-river interface\, and she has expertise in geography\, integrated (urban) water management\, and geomorphology. \nIn this masterclass the following topic will be discussed: Where did our water go? \nThis masterclass will give you a global perspective on water resources\, accessibility\, challenges\, and solutions.
URL:https://wavechallenge.rodeboei.eu/event/masterclass-kim-vercruysse-join-for-water/
ATTACH;FMTTYPE=image/jpeg:https://wavechallenge.rodeboei.eu/wp-content/uploads/2022/12/Photo_square190-Kim-Ver.jpg
END:VEVENT
BEGIN:VEVENT
DTSTART;VALUE=DATE:20230214
DTEND;VALUE=DATE:20230215
DTSTAMP:20260424T161555
CREATED:20221122T113728Z
LAST-MODIFIED:20221209T093025Z
UID:4584-1676332800-1676419199@wavechallenge.rodeboei.eu
SUMMARY:Second submission deadline
DESCRIPTION:
URL:https://wavechallenge.rodeboei.eu/event/test-1/
CATEGORIES:Deadline
END:VEVENT
BEGIN:VEVENT
DTSTART;TZID=Africa/Windhoek:20230205T140000
DTEND;TZID=Africa/Windhoek:20230205T170000
DTSTAMP:20260424T161555
CREATED:20221209T132111Z
LAST-MODIFIED:20221214T205905Z
UID:5211-1675605600-1675616400@wavechallenge.rodeboei.eu
SUMMARY:Masterclass Margo Adonis
DESCRIPTION:GMT +2
URL:https://wavechallenge.rodeboei.eu/event/margo-adonis/
CATEGORIES:Masterclass
ATTACH;FMTTYPE=image/png:https://wavechallenge.rodeboei.eu/wp-content/uploads/2022/12/Margo-Adonis-south-africa2-01.png
END:VEVENT
BEGIN:VEVENT
DTSTART;VALUE=DATE:20230124
DTEND;VALUE=DATE:20230125
DTSTAMP:20260424T161555
CREATED:20221207T111008Z
LAST-MODIFIED:20221209T092954Z
UID:5087-1674518400-1674604799@wavechallenge.rodeboei.eu
SUMMARY:First submission deadline
DESCRIPTION:
URL:https://wavechallenge.rodeboei.eu/event/test-2/
CATEGORIES:Deadline
END:VEVENT
BEGIN:VEVENT
DTSTART;TZID=Europe/Amsterdam:20221222T153000
DTEND;TZID=Europe/Amsterdam:20221222T153000
DTSTAMP:20260424T161555
CREATED:20221215T111239Z
LAST-MODIFIED:20221215T144107Z
UID:5350-1671723000-1671723000@wavechallenge.rodeboei.eu
SUMMARY:Masterclass by Muhammet Bilgic & Daphne van der Vaart
DESCRIPTION:Muhammet Bilgic\, Educational Content Manager of Wavemakers United will share some tips on how the SDG Toolkit can be used best. \nCommunication Manager Daphne van der Vaart will give you a masterclass about media. She will share her tips and tricks on how to create a good video for social media \nThe session will be finished with a Q&A session about the Challenge \nMeeting Link: MS TEAMS LINK  \nPlease confirm your attendance: LINK 
URL:https://wavechallenge.rodeboei.eu/event/masterclass-by-muhammet-bilgic-daphne-van-der-vaart/
ATTACH;FMTTYPE=image/png:https://wavechallenge.rodeboei.eu/wp-content/uploads/2022/12/Untitled-design-14.png
END:VEVENT
BEGIN:VEVENT
DTSTART;TZID=Africa/Windhoek:20221213T043000
DTEND;TZID=Africa/Windhoek:20221213T180000
DTSTAMP:20260424T161555
CREATED:20221207T111157Z
LAST-MODIFIED:20221214T133642Z
UID:5089-1670905800-1670954400@wavechallenge.rodeboei.eu
SUMMARY:Masterclass with Patricia Makhesha
DESCRIPTION:GMT +2
URL:https://wavechallenge.rodeboei.eu/event/masterclass-2/
CATEGORIES:Masterclass
END:VEVENT
END:VCALENDAR